BEGIN:VCALENDAR
VERSION:2.0
PRODID:-//Compango - ECPv6.14.2//NONSGML v1.0//EN
CALSCALE:GREGORIAN
METHOD:PUBLISH
X-ORIGINAL-URL:https://compango.org
X-WR-CALDESC:Veranstaltungen für Compango
REFRESH-INTERVAL;VALUE=DURATION:PT1H
X-Robots-Tag:noindex
X-PUBLISHED-TTL:PT1H
BEGIN:VTIMEZONE
TZID:Europe/Berlin
BEGIN:DAYLIGHT
TZOFFSETFROM:+0100
TZOFFSETTO:+0200
TZNAME:CEST
DTSTART:20250330T010000
END:DAYLIGHT
BEGIN:STANDARD
TZOFFSETFROM:+0200
TZOFFSETTO:+0100
TZNAME:CET
DTSTART:20251026T010000
END:STANDARD
END:VTIMEZONE
BEGIN:VEVENT
DTSTART;TZID=Europe/Berlin:20250208T100000
DTEND;TZID=Europe/Berlin:20250208T160000
DTSTAMP:20260425T173244
CREATED:20250204T174442Z
LAST-MODIFIED:20250204T174442Z
UID:2780-1739008800-1739030400@compango.org
SUMMARY:Wanderung im Grunewald
DESCRIPTION:Wir planen am Samstag eine Wanderung im Grunewald. Es geht um 10.00 Uhr am S Bahnhof Grunewald los und wir wandern bis zum Ufer der Havel (Grunewaldturm). Gegen 15.00 Uhr werden wir wieder am S Bahnhof zurück sein. Die Strecke ist etwa 14 km lang und meistens flach. Hunde und Kinderwagen sind willkommen. Nähere Informationen folgen.
URL:https://compango.org/events/wanderung-im-grunewald/
CATEGORIES:Wanderungen
END:VEVENT
END:VCALENDAR