BEGIN:VCALENDAR
VERSION:2.0
PRODID:-//Compango - ECPv6.14.2//NONSGML v1.0//EN
CALSCALE:GREGORIAN
METHOD:PUBLISH
X-ORIGINAL-URL:https://compango.org
X-WR-CALDESC:Veranstaltungen für Compango
REFRESH-INTERVAL;VALUE=DURATION:PT1H
X-Robots-Tag:noindex
X-PUBLISHED-TTL:PT1H
BEGIN:VTIMEZONE
TZID:Europe/Berlin
BEGIN:DAYLIGHT
TZOFFSETFROM:+0100
TZOFFSETTO:+0200
TZNAME:CEST
DTSTART:20250330T010000
END:DAYLIGHT
BEGIN:STANDARD
TZOFFSETFROM:+0200
TZOFFSETTO:+0100
TZNAME:CET
DTSTART:20251026T010000
END:STANDARD
END:VTIMEZONE
BEGIN:VEVENT
DTSTART;TZID=Europe/Berlin:20250211T130000
DTEND;TZID=Europe/Berlin:20250211T180000
DTSTAMP:20260425T215321
CREATED:20250211T123641Z
LAST-MODIFIED:20250211T123641Z
UID:2784-1739278800-1739296800@compango.org
SUMMARY:Bürotag
DESCRIPTION:Bürotag ab 13:00 Uhr in der Herzbergstraße für Mitarbeitende: Website\, Datenbank\, Radio Projekt – wer konkrete Projekt-Fragen hat oder mithelfen will\, ist willkommen.
URL:https://compango.org/events/buerotag/
LOCATION:Compango-Büro\, KARLA Karl Marx Allee 1 am Alexanderplatz\, Berlin\, 10178
END:VEVENT
END:VCALENDAR