BEGIN:VCALENDAR
VERSION:2.0
PRODID:-//Compango - ECPv6.14.2//NONSGML v1.0//EN
CALSCALE:GREGORIAN
METHOD:PUBLISH
X-WR-CALNAME:Compango
X-ORIGINAL-URL:https://compango.org
X-WR-CALDESC:Veranstaltungen für Compango
REFRESH-INTERVAL;VALUE=DURATION:PT1H
X-Robots-Tag:noindex
X-PUBLISHED-TTL:PT1H
BEGIN:VTIMEZONE
TZID:Europe/Berlin
BEGIN:DAYLIGHT
TZOFFSETFROM:+0100
TZOFFSETTO:+0200
TZNAME:CEST
DTSTART:20250330T010000
END:DAYLIGHT
BEGIN:STANDARD
TZOFFSETFROM:+0200
TZOFFSETTO:+0100
TZNAME:CET
DTSTART:20251026T010000
END:STANDARD
END:VTIMEZONE
BEGIN:VEVENT
DTSTART;TZID=Europe/Berlin:20250215T110000
DTEND;TZID=Europe/Berlin:20250215T160000
DTSTAMP:20260426T033814
CREATED:20250212T130612Z
LAST-MODIFIED:20250212T130612Z
UID:2802-1739617200-1739635200@compango.org
SUMMARY:Wanderung Grünewald
DESCRIPTION:Drei Seen Wanderung ab S Bhf Grunewald bis S Bhf Heerstraße. Ausklang im Biergarten von Adiks Stehcafe (beste Frühlingsrollen). Nähere Info hier: https://t.me/+a7t9d2Qq5jkyMzdi
URL:https://compango.org/events/wanderung-gruenewald/
END:VEVENT
END:VCALENDAR