BEGIN:VCALENDAR
VERSION:2.0
PRODID:-//Compango - ECPv6.14.2//NONSGML v1.0//EN
CALSCALE:GREGORIAN
METHOD:PUBLISH
X-ORIGINAL-URL:https://compango.org
X-WR-CALDESC:Veranstaltungen für Compango
REFRESH-INTERVAL;VALUE=DURATION:PT1H
X-Robots-Tag:noindex
X-PUBLISHED-TTL:PT1H
BEGIN:VTIMEZONE
TZID:Europe/Berlin
BEGIN:DAYLIGHT
TZOFFSETFROM:+0100
TZOFFSETTO:+0200
TZNAME:CEST
DTSTART:20260329T010000
END:DAYLIGHT
BEGIN:STANDARD
TZOFFSETFROM:+0200
TZOFFSETTO:+0100
TZNAME:CET
DTSTART:20261025T010000
END:STANDARD
END:VTIMEZONE
BEGIN:VEVENT
DTSTART;TZID=Europe/Berlin:20260325T130000
DTEND;TZID=Europe/Berlin:20260325T150000
DTSTAMP:20260421T152229
CREATED:20260329T191357Z
LAST-MODIFIED:20260329T191357Z
UID:4876-1774443600-1774450800@compango.org
SUMMARY:Radiosendung «Compango Green Voices»
DESCRIPTION:Unsere Radiosendung Compango – Green Voices auf 88\,4 Mhz  oder unter dem Link: http://fr-bb.org
URL:https://compango.org/events/radiosendung-compango-green-voices-10/
END:VEVENT
BEGIN:VEVENT
DTSTART;TZID=Europe/Berlin:20260325T160000
DTEND;TZID=Europe/Berlin:20260325T180000
DTSTAMP:20260421T152229
CREATED:20260329T193850Z
LAST-MODIFIED:20260329T193850Z
UID:4894-1774454400-1774461600@compango.org
SUMMARY:Teamsitzung
DESCRIPTION:Wir besprechen und planen Angebote für Jugendliche\, für Radio- und Podcast-Interessierte\, für Näherinnen\, für Reparatur-Liebhaber und sicher auch für Wanderer:innen.
URL:https://compango.org/events/teamsitzung-11/
END:VEVENT
BEGIN:VEVENT
DTSTART;TZID=Europe/Berlin:20260325T180000
DTEND;TZID=Europe/Berlin:20260325T190000
DTSTAMP:20260421T152229
CREATED:20260329T195020Z
LAST-MODIFIED:20260329T195020Z
UID:4907-1774461600-1774465200@compango.org
SUMMARY:Redaktionssitzung
DESCRIPTION:Wir besprechen die Planung und Ideen für neue Episoden. Wir freuen uns über Gäste die sich engagieren wollen!
URL:https://compango.org/events/redaktionssitzung-3/
END:VEVENT
END:VCALENDAR