BEGIN:VCALENDAR
VERSION:2.0
PRODID:-//Compango - ECPv6.14.2//NONSGML v1.0//EN
CALSCALE:GREGORIAN
METHOD:PUBLISH
X-ORIGINAL-URL:https://compango.org
X-WR-CALDESC:Veranstaltungen für Compango
REFRESH-INTERVAL;VALUE=DURATION:PT1H
X-Robots-Tag:noindex
X-PUBLISHED-TTL:PT1H
BEGIN:VTIMEZONE
TZID:Europe/Berlin
BEGIN:DAYLIGHT
TZOFFSETFROM:+0100
TZOFFSETTO:+0200
TZNAME:CEST
DTSTART:20250330T010000
END:DAYLIGHT
BEGIN:STANDARD
TZOFFSETFROM:+0200
TZOFFSETTO:+0100
TZNAME:CET
DTSTART:20251026T010000
END:STANDARD
END:VTIMEZONE
BEGIN:VEVENT
DTSTART;TZID=Europe/Berlin:20250117T100000
DTEND;TZID=Europe/Berlin:20250126T180000
DTSTAMP:20260423T123453
CREATED:20250115T141614Z
LAST-MODIFIED:20250115T142055Z
UID:2644-1737108000-1737914400@compango.org
SUMMARY:Grüne Woche Messe
DESCRIPTION:Vom 17. bis 26. Januar präsentiert sich Compango als Non-Profit-Organisation auf der Messe und bietet mehrere Workshops zum Thema Upcycling alter Gegenstände für den Alltag an. Besuchen Sie uns auf der Berliner Messe in Halle 27 im Segment grünerleben – auf einer Fläche von über 200 m². \nVon Upcycling-Ideen über Zero-Waste-Produkte bis hin zu kreativen Lösungen für ein nachhaltiges Leben – es gibt viel zu entdecken auf der Grünen Woche 2025! \nLassen Sie sich inspirieren von frischen Ideen rund um die Themen Nachhaltigkeit\, Wiederverwendung und Zero Waste. Kommen Sie vorbei\, erleben Sie es selbst und tauschen Sie Ideen aus! \nWir freuen uns auf Sie! \n#GreenWeek2025 #DiscoverSustainability #ZeroWaste #ReUseBerlin #MesseBerlin
URL:https://compango.org/events/gruene-woche-messe/
LOCATION:Messe Berlin GmbH\, Messedamm 22\, Berlin\, 14055
END:VEVENT
BEGIN:VEVENT
DTSTART;TZID=Europe/Berlin:20250127T160000
DTEND;TZID=Europe/Berlin:20250127T180000
DTSTAMP:20260423T123453
CREATED:20250127T151819Z
LAST-MODIFIED:20250127T151859Z
UID:2734-1737993600-1738000800@compango.org
SUMMARY:Grüne Sprachcafe
DESCRIPTION:Wir treffen uns\, üben Deutsch und diskutieren nachhaltiges Leben 🌱 wie Zero-Waste\, Energie- und Wassersparen. Durch Gespräche\, DIY-Projekte\, Kochen und Exkursionen erkunden wir Berlin nachhaltig! 🌍 \nWann und wo: montags um 16:00 Uhr in der Herzbergstraße 82-84\, 10365 Berlin.
URL:https://compango.org/events/gruene-sprachcafe/
LOCATION:Compango-Büro\, KARLA Karl Marx Allee 1 am Alexanderplatz\, Berlin\, 10178
CATEGORIES:Grünes Sprachcafé
END:VEVENT
END:VCALENDAR