BEGIN:VCALENDAR
VERSION:2.0
PRODID:-//Compango - ECPv6.14.2//NONSGML v1.0//EN
CALSCALE:GREGORIAN
METHOD:PUBLISH
X-WR-CALNAME:Compango
X-ORIGINAL-URL:https://compango.org
X-WR-CALDESC:Veranstaltungen für Compango
REFRESH-INTERVAL;VALUE=DURATION:PT1H
X-Robots-Tag:noindex
X-PUBLISHED-TTL:PT1H
BEGIN:VTIMEZONE
TZID:Europe/Berlin
BEGIN:DAYLIGHT
TZOFFSETFROM:+0100
TZOFFSETTO:+0200
TZNAME:CEST
DTSTART:20260329T010000
END:DAYLIGHT
BEGIN:STANDARD
TZOFFSETFROM:+0200
TZOFFSETTO:+0100
TZNAME:CET
DTSTART:20261025T010000
END:STANDARD
END:VTIMEZONE
BEGIN:VEVENT
DTSTART;TZID=Europe/Berlin:20260311T130000
DTEND;TZID=Europe/Berlin:20260311T150000
DTSTAMP:20260421T134038
CREATED:20260329T191248Z
LAST-MODIFIED:20260329T191248Z
UID:4874-1773234000-1773241200@compango.org
SUMMARY:Radiosendung «Compango Green Voices»
DESCRIPTION:Unsere Radiosendung Compango – Green Voices auf 88\,4 Mhz  oder unter dem Link: http://fr-bb.org
URL:https://compango.org/events/radiosendung-compango-green-voices-9/
END:VEVENT
BEGIN:VEVENT
DTSTART;TZID=Europe/Berlin:20260311T180000
DTEND;TZID=Europe/Berlin:20260311T190000
DTSTAMP:20260421T134038
CREATED:20260329T195548Z
LAST-MODIFIED:20260329T195548Z
UID:4909-1773252000-1773255600@compango.org
SUMMARY:Redaktionssitzung
DESCRIPTION:Wir besprechen die Planung und Ideen für neue Episoden. Wir freuen uns über Gäste die sich engagieren wollen!
URL:https://compango.org/events/redaktionssitzung-4/
END:VEVENT
BEGIN:VEVENT
DTSTART;TZID=Europe/Berlin:20260314T100000
DTEND;TZID=Europe/Berlin:20260315T140000
DTSTAMP:20260421T134038
CREATED:20260329T191856Z
LAST-MODIFIED:20260329T191856Z
UID:4882-1773482400-1773583200@compango.org
SUMMARY:EDAPHONISTAS - Menschen leihen Bodenlebewesen ihre Stimme
DESCRIPTION:In diesem Workshop verleihen junge Menschen den Bodenlebewesen – dem „Edaphon“ – ihre Stimme und verwandeln wissenschaftliche Beobachtungen in kreative 1–3-minütige Hörspiele. Über zwei Tage lernen die Teilnehmenden Bodenökologie kennen\, experimentieren mit Storytelling\, Klangkunst und Stimmbildung und nehmen ihre Beiträge im mobilen Tonstudio auf. Der Workshop verbindet Wissenschaft und Kreativität\, ist gefördert durch das EU-Programm „NO PLANET B“ und für 15–30-Jährige kostenlos.
URL:https://compango.org/events/edaphonistas-menschen-leihen-bodenlebewesen-ihre-stimme/
END:VEVENT
BEGIN:VEVENT
DTSTART;TZID=Europe/Berlin:20260319T170000
DTEND;TZID=Europe/Berlin:20260319T190000
DTSTAMP:20260421T134038
CREATED:20260329T202324Z
LAST-MODIFIED:20260329T202324Z
UID:4919-1773939600-1773946800@compango.org
SUMMARY:Einführung: Entspannung mit Klangschalen
DESCRIPTION:Mit der Therapeutin Annette die Wirkung von Klangschalen entdecken. Mehr: https://t.me/+5YhzTQ_8CR5hNDYy
URL:https://compango.org/events/einfuehrung-entspannung-mit-klangschalen-9/
END:VEVENT
BEGIN:VEVENT
DTSTART;TZID=Europe/Berlin:20260321T150000
DTEND;TZID=Europe/Berlin:20260321T170000
DTSTAMP:20260421T134038
CREATED:20260329T192529Z
LAST-MODIFIED:20260329T192529Z
UID:4886-1774105200-1774112400@compango.org
SUMMARY:Gartenzeit
DESCRIPTION:Mit viel Liebe und Sorgfalt kümmern wir uns gemeinsam um unseren Raum: Wir räumen die Beete auf \, pflanzen Blumen  und schaffen eine gemütliche grüne Oase
URL:https://compango.org/events/gartenzeit/
END:VEVENT
BEGIN:VEVENT
DTSTART;TZID=Europe/Berlin:20260325T130000
DTEND;TZID=Europe/Berlin:20260325T150000
DTSTAMP:20260421T134038
CREATED:20260329T191357Z
LAST-MODIFIED:20260329T191357Z
UID:4876-1774443600-1774450800@compango.org
SUMMARY:Radiosendung «Compango Green Voices»
DESCRIPTION:Unsere Radiosendung Compango – Green Voices auf 88\,4 Mhz  oder unter dem Link: http://fr-bb.org
URL:https://compango.org/events/radiosendung-compango-green-voices-10/
END:VEVENT
BEGIN:VEVENT
DTSTART;TZID=Europe/Berlin:20260325T160000
DTEND;TZID=Europe/Berlin:20260325T180000
DTSTAMP:20260421T134038
CREATED:20260329T193850Z
LAST-MODIFIED:20260329T193850Z
UID:4894-1774454400-1774461600@compango.org
SUMMARY:Teamsitzung
DESCRIPTION:Wir besprechen und planen Angebote für Jugendliche\, für Radio- und Podcast-Interessierte\, für Näherinnen\, für Reparatur-Liebhaber und sicher auch für Wanderer:innen.
URL:https://compango.org/events/teamsitzung-11/
END:VEVENT
BEGIN:VEVENT
DTSTART;TZID=Europe/Berlin:20260325T180000
DTEND;TZID=Europe/Berlin:20260325T190000
DTSTAMP:20260421T134038
CREATED:20260329T195020Z
LAST-MODIFIED:20260329T195020Z
UID:4907-1774461600-1774465200@compango.org
SUMMARY:Redaktionssitzung
DESCRIPTION:Wir besprechen die Planung und Ideen für neue Episoden. Wir freuen uns über Gäste die sich engagieren wollen!
URL:https://compango.org/events/redaktionssitzung-3/
END:VEVENT
BEGIN:VEVENT
DTSTART;TZID=Europe/Berlin:20260326T170000
DTEND;TZID=Europe/Berlin:20260326T190000
DTSTAMP:20260421T134038
CREATED:20260329T202241Z
LAST-MODIFIED:20260329T202241Z
UID:4917-1774544400-1774551600@compango.org
SUMMARY:Einführung: Entspannung mit Klangschalen
DESCRIPTION:Mit der Therapeutin Annette die Wirkung von Klangschalen entdecken. Mehr: https://t.me/+5YhzTQ_8CR5hNDYy
URL:https://compango.org/events/einfuehrung-entspannung-mit-klangschalen-8/
END:VEVENT
BEGIN:VEVENT
DTSTART;TZID=Europe/Berlin:20260328T150000
DTEND;TZID=Europe/Berlin:20260329T170000
DTSTAMP:20260421T134038
CREATED:20260329T192644Z
LAST-MODIFIED:20260329T192644Z
UID:4888-1774710000-1774803600@compango.org
SUMMARY:Gartenzeit
DESCRIPTION:Mit viel Liebe und Sorgfalt kümmern wir uns gemeinsam um unseren Raum: Wir räumen die Beete auf \, pflanzen Blumen  und schaffen eine gemütliche grüne Oase
URL:https://compango.org/events/gartenzeit-2/
END:VEVENT
BEGIN:VEVENT
DTSTART;TZID=Europe/Berlin:20260329T150000
DTEND;TZID=Europe/Berlin:20260329T170000
DTSTAMP:20260421T134038
CREATED:20260329T192749Z
LAST-MODIFIED:20260329T192749Z
UID:4892-1774796400-1774803600@compango.org
SUMMARY:Gartenzeit
DESCRIPTION:Mit viel Liebe und Sorgfalt kümmern wir uns gemeinsam um unseren Raum: Wir räumen die Beete auf \, pflanzen Blumen  und schaffen eine gemütliche grüne Oase
URL:https://compango.org/events/gartenzeit-4/
END:VEVENT
END:VCALENDAR